BEGIN:VCALENDAR
VERSION:2.0
PRODID:-//ACG//Events//EN
CALSCALE:GREGORIAN
METHOD:PUBLISH
BEGIN:VTIMEZONE
TZID:America/New_York
BEGIN:STANDARD
DTSTART:19701025T060000
TZOFFSETTO:-0500
TZOFFSETFROM:-0400
RRULE:FREQ=YEARLY;BYMONTH=11;BYDAY=1SU
END:STANDARD
BEGIN:DAYLIGHT
DTSTART:19700426T070000
TZOFFSETTO:-0400
TZOFFSETFROM:-0500
RRULE:FREQ=YEARLY;BYMONTH=3;BYDAY=2SU
END:DAYLIGHT
END:VTIMEZONE
BEGIN:VEVENT
UID:ACG-NJ-NEXTGEN-NETWORKING-SOCIAL-APRIL-23-2025
DTSTART;TZID=America/New_York:20250423T173051
DTEND;TZID=America/New_York:20250423T203017
STATUS:CONFIRMED
SUMMARY:ACG NJ NextGen Networking Social | April 23\, 2025
DESCRIPTION:
LOCATION:Homestead Bar & Kitchen\n10 Dehart Street\nMorristown\\, NJ 07960
URL:https://www.acg.org/newjersey/events/acg-nj-nextgen-networking-soc
 ial-april-23-2025
DTSTAMP:20260422T060044Z
END:VEVENT
END:VCALENDAR
