BEGIN:VCALENDAR
VERSION:2.0
PRODID:-//ACG//Events//EN
CALSCALE:GREGORIAN
METHOD:PUBLISH
BEGIN:VTIMEZONE
TZID:America/Chicago
BEGIN:STANDARD
DTSTART:19701025T070000
TZOFFSETTO:-0600
TZOFFSETFROM:-0500
RRULE:FREQ=YEARLY;BYMONTH=11;BYDAY=1SU
END:STANDARD
BEGIN:DAYLIGHT
DTSTART:19700426T080000
TZOFFSETTO:-0500
TZOFFSETFROM:-0600
RRULE:FREQ=YEARLY;BYMONTH=3;BYDAY=2SU
END:DAYLIGHT
END:VTIMEZONE
BEGIN:VEVENT
UID:143013
DTSTART;TZID=America/Chicago:20250220T173000
DTEND;TZID=America/Chicago:20250220T200000
STATUS:CONFIRMED
SUMMARY:2025 ACG DFW Private-Equity Backed Executive Roundtable (PEER)
 : February Dinner
DESCRIPTION:
LOCATION:Location provided upon approval\n
URL:https://www.acg.org/dfw/events/2025-acg-dfw-private-equity-backed-
 executive-roundtable-peer-february-dinner
DTSTAMP:20260422T114528Z
END:VEVENT
END:VCALENDAR
