BEGIN:VCALENDAR
VERSION:2.0
PRODID:-//ACG//Events//EN
CALSCALE:GREGORIAN
METHOD:PUBLISH
BEGIN:VTIMEZONE
TZID:US/Mountain
BEGIN:STANDARD
DTSTART:19701025T080000
TZOFFSETTO:-0700
TZOFFSETFROM:-0600
RRULE:FREQ=YEARLY;BYMONTH=11;BYDAY=1SU
END:STANDARD
BEGIN:DAYLIGHT
DTSTART:19700426T090000
TZOFFSETTO:-0600
TZOFFSETFROM:-0700
RRULE:FREQ=YEARLY;BYMONTH=3;BYDAY=2SU
END:DAYLIGHT
END:VTIMEZONE
BEGIN:VEVENT
UID:MARCH-2025-UTAH-BREAKFAST-SPEAKER-SERIES
DTSTART;TZID=US/Mountain:20250318T080032
DTEND;TZID=US/Mountain:20250318T093032
STATUS:CONFIRMED
SUMMARY:March 2025 Utah Breakfast Speaker Series
DESCRIPTION:
LOCATION:Edison House\n335 South 200 West\nSalt Lake City\\, UT 84101
URL:https://www.acg.org/utah/events/march-2025-utah-breakfast-speaker-
 series
DTSTAMP:20260422T081128Z
END:VEVENT
END:VCALENDAR
