BEGIN:VCALENDAR
VERSION:2.0
PRODID:-//ACG//Events//EN
CALSCALE:GREGORIAN
METHOD:PUBLISH
BEGIN:VTIMEZONE
TZID:America/Edmonton
BEGIN:STANDARD
DTSTART:19700101T060000
TZOFFSETTO:-0700
TZOFFSETFROM:-0700
END:STANDARD
END:VTIMEZONE
BEGIN:VEVENT
UID:143040
DTSTART;TZID=America/Edmonton:20250212T190000
DTEND;TZID=America/Edmonton:20250212T220000
STATUS:CONFIRMED
SUMMARY:Powerplay Networking Night: Young ACG Edmonton at the Oil Kings
DESCRIPTION:
LOCATION:Rogers Place\nRogers Place\n10220 104 Avenue NW \nEdmonton\\,
  AB T5J0H6
URL:https://www.acg.org/edmonton/events/powerplay-networking-night-you
 ng-acg-edmonton-oil-kings
DTSTAMP:20260422T151533Z
END:VEVENT
END:VCALENDAR
