BEGIN:VCALENDAR
VERSION:2.0
PRODID:-//ACG//Events//EN
CALSCALE:GREGORIAN
METHOD:PUBLISH
BEGIN:VTIMEZONE
TZID:US/Eastern
BEGIN:STANDARD
DTSTART:19701025T060000
TZOFFSETTO:-0500
TZOFFSETFROM:-0400
RRULE:FREQ=YEARLY;BYMONTH=11;BYDAY=1SU
END:STANDARD
BEGIN:DAYLIGHT
DTSTART:19700426T070000
TZOFFSETTO:-0400
TZOFFSETFROM:-0500
RRULE:FREQ=YEARLY;BYMONTH=3;BYDAY=2SU
END:DAYLIGHT
END:VTIMEZONE
BEGIN:VEVENT
UID:ACG-NJ-CFO-FEBRUARY-25-2025
DTSTART;TZID=US/Eastern:20250225T173014
DTEND;TZID=US/Eastern:20250225T203032
STATUS:CONFIRMED
SUMMARY:ACG NJ CFO February 25\, 2025
DESCRIPTION:
URL:https://www.acg.org/newjersey/events/acg-nj-cfo-february-25-2025
DTSTAMP:20260422T114111Z
END:VEVENT
END:VCALENDAR
