BEGIN:VCALENDAR
VERSION:2.0
PRODID:-//ACG//Events//EN
CALSCALE:GREGORIAN
METHOD:PUBLISH
BEGIN:VTIMEZONE
TZID:US/Eastern
BEGIN:STANDARD
DTSTART:19701025T060000
TZOFFSETTO:-0500
TZOFFSETFROM:-0400
RRULE:FREQ=YEARLY;BYMONTH=11;BYDAY=1SU
END:STANDARD
BEGIN:DAYLIGHT
DTSTART:19700426T070000
TZOFFSETTO:-0400
TZOFFSETFROM:-0500
RRULE:FREQ=YEARLY;BYMONTH=3;BYDAY=2SU
END:DAYLIGHT
END:VTIMEZONE
BEGIN:VEVENT
UID:ACG-NJ-CD-FORUM-FEBRUARY-20-2025
DTSTART;TZID=US/Eastern:20250220T173049
DTEND;TZID=US/Eastern:20250220T203039
STATUS:CONFIRMED
SUMMARY:ACG NJ CD Forum February 20\, 2025
DESCRIPTION:
URL:https://www.acg.org/newjersey/events/acg-nj-cd-forum-february-20-2025
DTSTAMP:20260422T134015Z
END:VEVENT
END:VCALENDAR
