BEGIN:VCALENDAR
VERSION:2.0
PRODID:-//ACG//Events//EN
CALSCALE:GREGORIAN
METHOD:PUBLISH
BEGIN:VTIMEZONE
TZID:America/New_York
BEGIN:STANDARD
DTSTART:19701025T060000
TZOFFSETTO:-0500
TZOFFSETFROM:-0400
RRULE:FREQ=YEARLY;BYMONTH=11;BYDAY=1SU
END:STANDARD
BEGIN:DAYLIGHT
DTSTART:19700426T070000
TZOFFSETTO:-0400
TZOFFSETFROM:-0500
RRULE:FREQ=YEARLY;BYMONTH=3;BYDAY=2SU
END:DAYLIGHT
END:VTIMEZONE
BEGIN:VEVENT
UID:ACG-TAMPA-BAY-2025-INVESTOR-REVEAL-MEMBERS-ONLY
DTSTART;TZID=America/New_York:20250520T173002
DTEND;TZID=America/New_York:20250520T200029
STATUS:CONFIRMED
SUMMARY:ACG Tampa Bay 2025 Investor Reveal (Members Only)
DESCRIPTION:
LOCATION:Crescent Club of The Vaughn Center at UT\n200 UT Poe Parkway\
 nTampa\\, FL 33606
URL:https://www.acg.org/tampabay/events/acg-tampa-bay-2025-investor-re
 veal-members-only
DTSTAMP:20260421T220941Z
END:VEVENT
END:VCALENDAR
