BEGIN:VCALENDAR
VERSION:2.0
PRODID:-//ACG//Events//EN
CALSCALE:GREGORIAN
METHOD:PUBLISH
BEGIN:VTIMEZONE
TZID:America/Los_Angeles
BEGIN:STANDARD
DTSTART:19701025T090000
TZOFFSETTO:-0800
TZOFFSETFROM:-0700
RRULE:FREQ=YEARLY;BYMONTH=11;BYDAY=1SU
END:STANDARD
BEGIN:DAYLIGHT
DTSTART:19700426T100000
TZOFFSETTO:-0700
TZOFFSETFROM:-0800
RRULE:FREQ=YEARLY;BYMONTH=3;BYDAY=2SU
END:DAYLIGHT
END:VTIMEZONE
BEGIN:VEVENT
UID:ACG-SF-WOMEN-S-NETWORK-GOLF-CLINIC-FEBRUARY-2025
DTSTART;TZID=America/Los_Angeles:20250227T153033
DTEND;TZID=America/Los_Angeles:20250227T173033
STATUS:CONFIRMED
SUMMARY:ACG SF | Women's Network Golf Clinic\, February 2025
DESCRIPTION:
LOCATION:Presidio Golf Course\n300 Finley Road\nSan Francisco\\, CA 94129
URL:https://www.acg.org/sanfrancisco/events/acg-sf-womens-network-golf
 -clinic-february-2025
DTSTAMP:20260422T114407Z
END:VEVENT
END:VCALENDAR
