BEGIN:VCALENDAR
VERSION:2.0
PRODID:-//ACG//Events//EN
CALSCALE:GREGORIAN
METHOD:PUBLISH
BEGIN:VTIMEZONE
TZID:America/New_York
BEGIN:STANDARD
DTSTART:19701025T060000
TZOFFSETTO:-0500
TZOFFSETFROM:-0400
RRULE:FREQ=YEARLY;BYMONTH=11;BYDAY=1SU
END:STANDARD
BEGIN:DAYLIGHT
DTSTART:19700426T070000
TZOFFSETTO:-0400
TZOFFSETFROM:-0500
RRULE:FREQ=YEARLY;BYMONTH=3;BYDAY=2SU
END:DAYLIGHT
END:VTIMEZONE
BEGIN:VEVENT
UID:ACG-TAMPA-BAY-2025-SUMMER-BREAKFAST-SERIES-AUGUST
DTSTART;TZID=America/New_York:20250807T080045
DTEND;TZID=America/New_York:20250807T083045
STATUS:CONFIRMED
SUMMARY:August 2025 Summer Breakfast Series
DESCRIPTION:
LOCATION:RSM/Northern Trust Building\n1001 Water Street\nTampa\\, FL 33602
URL:https://www.acg.org/tampabay/events/august-2025-summer-breakfast-series
DTSTAMP:20260423T083737Z
END:VEVENT
END:VCALENDAR
