BEGIN:VCALENDAR
VERSION:2.0
PRODID:-//ACG//Events//EN
CALSCALE:GREGORIAN
METHOD:PUBLISH
BEGIN:VTIMEZONE
TZID:America/Los_Angeles
BEGIN:STANDARD
DTSTART:19701025T090000
TZOFFSETTO:-0800
TZOFFSETFROM:-0700
RRULE:FREQ=YEARLY;BYMONTH=11;BYDAY=1SU
END:STANDARD
BEGIN:DAYLIGHT
DTSTART:19700426T100000
TZOFFSETTO:-0700
TZOFFSETFROM:-0800
RRULE:FREQ=YEARLY;BYMONTH=3;BYDAY=2SU
END:DAYLIGHT
END:VTIMEZONE
BEGIN:VEVENT
UID:ACG-SD-NATURAL-FOOD-SYMPOSIUM-2025
DTSTART;TZID=America/Los_Angeles:20250124T120711
DTEND;TZID=America/Los_Angeles:20250129T120711
STATUS:CONFIRMED
SUMMARY:ACG SD | Natural Food Symposium 2025
DESCRIPTION:
LOCATION:Lomas Santa Fe Country Club\n1505 Lomas Santa Fe Drive\nSolan
 a Beach\\, CA 92075
URL:https://www.acg.org/sandiego/events/acg-sd-natural-food-symposium-2025
DTSTAMP:20260422T173023Z
END:VEVENT
END:VCALENDAR
