BEGIN:VCALENDAR
VERSION:2.0
PRODID:-//ACG//Events//EN
CALSCALE:GREGORIAN
METHOD:PUBLISH
BEGIN:VTIMEZONE
TZID:America/Chicago
BEGIN:STANDARD
DTSTART:19701025T070000
TZOFFSETTO:-0600
TZOFFSETFROM:-0500
RRULE:FREQ=YEARLY;BYMONTH=11;BYDAY=1SU
END:STANDARD
BEGIN:DAYLIGHT
DTSTART:19700426T080000
TZOFFSETTO:-0500
TZOFFSETFROM:-0600
RRULE:FREQ=YEARLY;BYMONTH=3;BYDAY=2SU
END:DAYLIGHT
END:VTIMEZONE
BEGIN:VEVENT
UID:2025-FEB-19TH-ACG-ASA-NEXTGEN-S-HAPPY-HOUR-IN-SAN-ANTONIO
DTSTART;TZID=America/Chicago:20250219T173000
DTEND;TZID=America/Chicago:20250219T193018
STATUS:CONFIRMED
SUMMARY:2025 Feb. 19th ACG ASA NextGen’s Happy Hour in San Antonio
DESCRIPTION:
LOCATION:High Street Wine Company at the Pearl\n302 Pearl Parkway\nSan
  Antonio\\, TX 78215
URL:https://www.acg.org/asa/events/2025-feb-19th-acg-asa-nextgens-happ
 y-hour-san-antonio
DTSTAMP:20260422T133834Z
END:VEVENT
END:VCALENDAR
