BEGIN:VCALENDAR
VERSION:2.0
PRODID:-//ACG//Events//EN
CALSCALE:GREGORIAN
METHOD:PUBLISH
BEGIN:VTIMEZONE
TZID:America/Los_Angeles
BEGIN:STANDARD
DTSTART:19701025T090000
TZOFFSETTO:-0800
TZOFFSETFROM:-0700
RRULE:FREQ=YEARLY;BYMONTH=11;BYDAY=1SU
END:STANDARD
BEGIN:DAYLIGHT
DTSTART:19700426T100000
TZOFFSETTO:-0700
TZOFFSETFROM:-0800
RRULE:FREQ=YEARLY;BYMONTH=3;BYDAY=2SU
END:DAYLIGHT
END:VTIMEZONE
BEGIN:VEVENT
UID:2025-INLAND-EMPIRE-VIP-RACING-AND-NETWORKING-EXPERIENCE-AT-THE-IN-
 N-OUT-POMONA-DRAG-STRIP-03-27-25
DTSTART;TZID=America/Los_Angeles:20250327T140032
DTEND;TZID=America/Los_Angeles:20250327T170032
STATUS:CONFIRMED
SUMMARY:2025 Inland Empire | VIP Racing and Networking Experience at t
 he In-N-Out Pomona Drag Strip | 03.27.25
DESCRIPTION:
LOCATION:In-N-Out Burger Pomona Dragstrip\n2780 Fairplex Drive\nPomona
 \\, CA 91768
URL:https://www.acg.org/occ/events/2025-inland-empire-vip-racing-and-n
 etworking-experience-n-out-pomona-drag-strip-032725
DTSTAMP:20260422T081329Z
END:VEVENT
END:VCALENDAR
