BEGIN:VCALENDAR
VERSION:2.0
PRODID:-//ACG//Events//EN
CALSCALE:GREGORIAN
METHOD:PUBLISH
BEGIN:VTIMEZONE
TZID:America/New_York
BEGIN:STANDARD
DTSTART:19701025T060000
TZOFFSETTO:-0500
TZOFFSETFROM:-0400
RRULE:FREQ=YEARLY;BYMONTH=11;BYDAY=1SU
END:STANDARD
BEGIN:DAYLIGHT
DTSTART:19700426T070000
TZOFFSETTO:-0400
TZOFFSETFROM:-0500
RRULE:FREQ=YEARLY;BYMONTH=3;BYDAY=2SU
END:DAYLIGHT
END:VTIMEZONE
BEGIN:VEVENT
UID:ACG-TAMPA-BAY-SUNSET-POLO-SARASOTA
DTSTART;TZID=America/New_York:20250403T163019
DTEND;TZID=America/New_York:20250403T200019
STATUS:CONFIRMED
SUMMARY:ACG Tampa Bay Sunset Polo - Sarasota
DESCRIPTION:
LOCATION:Sarasota Polo Club\n8201 Polo Club Lane\nSarasota\\, FL 34240
URL:https://www.acg.org/tampabay/events/acg-tampa-bay-sunset-polo-sarasota
DTSTAMP:20260422T061042Z
END:VEVENT
END:VCALENDAR
