BEGIN:VCALENDAR
VERSION:2.0
PRODID:-//ACG//Events//EN
CALSCALE:GREGORIAN
METHOD:PUBLISH
BEGIN:VTIMEZONE
TZID:America/New_York
BEGIN:STANDARD
DTSTART:19701025T060000
TZOFFSETTO:-0500
TZOFFSETFROM:-0400
RRULE:FREQ=YEARLY;BYMONTH=11;BYDAY=1SU
END:STANDARD
BEGIN:DAYLIGHT
DTSTART:19700426T070000
TZOFFSETTO:-0400
TZOFFSETFROM:-0500
RRULE:FREQ=YEARLY;BYMONTH=3;BYDAY=2SU
END:DAYLIGHT
END:VTIMEZONE
BEGIN:VEVENT
UID:ACG-757-2025-FEBRUARY-HAPPY-HOUR
DTSTART;TZID=America/New_York:20250227T160007
DTEND;TZID=America/New_York:20250227T180007
STATUS:CONFIRMED
SUMMARY:ACG 757 2025 February Happy Hour
DESCRIPTION:
LOCATION:Voodoo Brewing Company\n300 Constitution Drive\nVirginia Beac
 h\\, VA 23462
URL:https://www.acg.org/757-network/events/acg-757-2025-february-happy-hour
DTSTAMP:20260422T114439Z
END:VEVENT
END:VCALENDAR
