BEGIN:VCALENDAR
VERSION:2.0
PRODID:-//ACG//Events//EN
CALSCALE:GREGORIAN
METHOD:PUBLISH
BEGIN:VTIMEZONE
TZID:America/Chicago
BEGIN:STANDARD
DTSTART:19701025T070000
TZOFFSETTO:-0600
TZOFFSETFROM:-0500
RRULE:FREQ=YEARLY;BYMONTH=11;BYDAY=1SU
END:STANDARD
BEGIN:DAYLIGHT
DTSTART:19700426T080000
TZOFFSETTO:-0500
TZOFFSETFROM:-0600
RRULE:FREQ=YEARLY;BYMONTH=3;BYDAY=2SU
END:DAYLIGHT
END:VTIMEZONE
BEGIN:VEVENT
UID:2025-ACG-KC-WOMEN-S-SPRING-COFFEE-CONNECT
DTSTART;TZID=America/Chicago:20250326T080017
DTEND;TZID=America/Chicago:20250326T090036
STATUS:CONFIRMED
SUMMARY:2025 ACG KC Women's Spring Coffee Connect
DESCRIPTION:
LOCATION:Kemper Museum of Contemporary Art\n4420 Warwick Boulevard\nKa
 nsas City\\, MO 64111
URL:https://www.acg.org/kc/events/2025-acg-kc-womens-spring-coffee-connect
DTSTAMP:20260424T090541Z
END:VEVENT
END:VCALENDAR
