BEGIN:VCALENDAR
VERSION:2.0
PRODID:-//ACG//Events//EN
CALSCALE:GREGORIAN
METHOD:PUBLISH
BEGIN:VTIMEZONE
TZID:America/Los_Angeles
BEGIN:STANDARD
DTSTART:19701025T090000
TZOFFSETTO:-0800
TZOFFSETFROM:-0700
RRULE:FREQ=YEARLY;BYMONTH=11;BYDAY=1SU
END:STANDARD
BEGIN:DAYLIGHT
DTSTART:19700426T100000
TZOFFSETTO:-0700
TZOFFSETFROM:-0800
RRULE:FREQ=YEARLY;BYMONTH=3;BYDAY=2SU
END:DAYLIGHT
END:VTIMEZONE
BEGIN:VEVENT
UID:ACG-SF-STATE-OF-THE-ECONOMY-FEBRUARY-2025
DTSTART;TZID=America/Los_Angeles:20250225T163002
DTEND;TZID=America/Los_Angeles:20250225T183002
STATUS:CONFIRMED
SUMMARY:ACG SF | State of the Economy\, February 2025
DESCRIPTION:
LOCATION:JP Morgan\n560 Mission Street\nSan Francisco\\, CA 94105
URL:https://www.acg.org/sanfrancisco/events/acg-sf-state-economy-febru
 ary-2025
DTSTAMP:20260422T115809Z
END:VEVENT
END:VCALENDAR
