BEGIN:VCALENDAR
VERSION:2.0
PRODID:-//ACG//Events//EN
CALSCALE:GREGORIAN
METHOD:PUBLISH
BEGIN:VTIMEZONE
TZID:America/Toronto
BEGIN:STANDARD
DTSTART:19701025T060000
TZOFFSETTO:-0500
TZOFFSETFROM:-0400
RRULE:FREQ=YEARLY;BYMONTH=11;BYDAY=1SU
END:STANDARD
BEGIN:DAYLIGHT
DTSTART:19700426T070000
TZOFFSETTO:-0400
TZOFFSETFROM:-0500
RRULE:FREQ=YEARLY;BYMONTH=3;BYDAY=2SU
END:DAYLIGHT
END:VTIMEZONE
BEGIN:VEVENT
UID:143361
DTSTART;TZID=America/Toronto:20250227T173000
DTEND;TZID=America/Toronto:20250227T203000
STATUS:CONFIRMED
SUMMARY:NexGen Social
DESCRIPTION:
LOCATION:MNP Office\nMNP\n1 Adelaide St E
URL:https://www.acg.org/toronto/events/nexgen-social-0
DTSTAMP:20260422T114558Z
END:VEVENT
END:VCALENDAR
