BEGIN:VCALENDAR
VERSION:2.0
PRODID:-//ACG//Events//EN
CALSCALE:GREGORIAN
METHOD:PUBLISH
BEGIN:VTIMEZONE
TZID:America/Phoenix
BEGIN:STANDARD
DTSTART:19700101T060000
TZOFFSETTO:-0700
TZOFFSETFROM:-0700
END:STANDARD
END:VTIMEZONE
BEGIN:VEVENT
UID:2025-ACG-ARIZONA-SPRING-TRAINING-SOCIAL
DTSTART;TZID=America/Phoenix:20250319T131053
DTEND;TZID=America/Phoenix:20250319T153029
STATUS:CONFIRMED
SUMMARY:2025 ACG Arizona Spring Training Social
DESCRIPTION:
LOCATION:Salt River Fields at Talking Stick\n7555 North Pima Road\nSco
 ttsdale\\, AZ 85258
URL:https://www.acg.org/arizona/events/2025-acg-arizona-spring-trainin
 g-social
DTSTAMP:20260422T094959Z
END:VEVENT
END:VCALENDAR
