BEGIN:VCALENDAR
VERSION:2.0
PRODID:-//ACG//Events//EN
CALSCALE:GREGORIAN
METHOD:PUBLISH
BEGIN:VTIMEZONE
TZID:America/Los_Angeles
BEGIN:STANDARD
DTSTART:19701025T090000
TZOFFSETTO:-0800
TZOFFSETFROM:-0700
RRULE:FREQ=YEARLY;BYMONTH=11;BYDAY=1SU
END:STANDARD
BEGIN:DAYLIGHT
DTSTART:19700426T100000
TZOFFSETTO:-0700
TZOFFSETFROM:-0800
RRULE:FREQ=YEARLY;BYMONTH=3;BYDAY=2SU
END:DAYLIGHT
END:VTIMEZONE
BEGIN:VEVENT
UID:ACGOC-2025-HOW-TO-INVEST-IN-TRUMP-S-ECONOMY-03-06-2025
DTSTART;TZID=America/Los_Angeles:20250306T163033
DTEND;TZID=America/Los_Angeles:20250306T180033
STATUS:CONFIRMED
SUMMARY:ACGOC 2025 | How to Invest in Trump’s Economy | 03.06.2025
DESCRIPTION:
LOCATION:Knobbe Martens Conference Center\n2040 Main Street\nIrvine\\,
  CA 92614
URL:https://www.acg.org/occ/events/acgoc-2025-how-invest-trumps-econom
 y-03062025
DTSTAMP:20260422T114557Z
END:VEVENT
END:VCALENDAR
