BEGIN:VCALENDAR
VERSION:2.0
PRODID:-//ACG//Events//EN
CALSCALE:GREGORIAN
METHOD:PUBLISH
BEGIN:VTIMEZONE
TZID:America/New_York
BEGIN:STANDARD
DTSTART:19701025T060000
TZOFFSETTO:-0500
TZOFFSETFROM:-0400
RRULE:FREQ=YEARLY;BYMONTH=11;BYDAY=1SU
END:STANDARD
BEGIN:DAYLIGHT
DTSTART:19700426T070000
TZOFFSETTO:-0400
TZOFFSETFROM:-0500
RRULE:FREQ=YEARLY;BYMONTH=3;BYDAY=2SU
END:DAYLIGHT
END:VTIMEZONE
BEGIN:VEVENT
UID:ACG-MIAMI-NETWORK-RECEPTION-AT-ABA
DTSTART;TZID=America/New_York:20250319T173055
DTEND;TZID=America/New_York:20250319T193005
STATUS:CONFIRMED
SUMMARY:ACG Miami Network Reception at Aba
DESCRIPTION:
LOCATION:Aba Miami - Bal Harbour\n9700 Collins Avenue\nBal Harbour\\, 
 FL 33154
URL:https://www.acg.org/miami/events/acg-miami-network-reception-aba
DTSTAMP:20260422T080943Z
END:VEVENT
END:VCALENDAR
