BEGIN:VCALENDAR
VERSION:2.0
PRODID:-//ACG//Events//EN
CALSCALE:GREGORIAN
METHOD:PUBLISH
BEGIN:VTIMEZONE
TZID:America/Los_Angeles
BEGIN:STANDARD
DTSTART:19701025T090000
TZOFFSETTO:-0800
TZOFFSETFROM:-0700
RRULE:FREQ=YEARLY;BYMONTH=11;BYDAY=1SU
END:STANDARD
BEGIN:DAYLIGHT
DTSTART:19700426T100000
TZOFFSETTO:-0700
TZOFFSETFROM:-0800
RRULE:FREQ=YEARLY;BYMONTH=3;BYDAY=2SU
END:DAYLIGHT
END:VTIMEZONE
BEGIN:VEVENT
UID:ACG-101-MARCH-12TH-SPRING-SOCIAL
DTSTART;TZID=America/Los_Angeles:20250312T170021
DTEND;TZID=America/Los_Angeles:20250312T200001
STATUS:CONFIRMED
SUMMARY:ACG 101 March 12th 2025 Spring Social
DESCRIPTION:
LOCATION:Pedalers Fork\, Calabasas\n23504 Calabasas Road\nCalabasas\\,
  CA 91302
URL:https://www.acg.org/101/events/acg-101-march-12th-2025-spring-social
DTSTAMP:20260420T143013Z
END:VEVENT
END:VCALENDAR
