BEGIN:VCALENDAR
VERSION:2.0
PRODID:-//ACG//Events//EN
CALSCALE:GREGORIAN
METHOD:PUBLISH
BEGIN:VTIMEZONE
TZID:America/New_York
BEGIN:STANDARD
DTSTART:19701025T060000
TZOFFSETTO:-0500
TZOFFSETFROM:-0400
RRULE:FREQ=YEARLY;BYMONTH=11;BYDAY=1SU
END:STANDARD
BEGIN:DAYLIGHT
DTSTART:19700426T070000
TZOFFSETTO:-0400
TZOFFSETFROM:-0500
RRULE:FREQ=YEARLY;BYMONTH=3;BYDAY=2SU
END:DAYLIGHT
END:VTIMEZONE
BEGIN:VEVENT
UID:ACG-NJ-ANGEL-FORUM-MARCH-12-2025
DTSTART;TZID=America/New_York:20250312T080013
DTEND;TZID=America/New_York:20250312T100029
STATUS:CONFIRMED
SUMMARY:ACG NJ Angel Forum March 12\, 2025
DESCRIPTION:
URL:https://www.acg.org/newjersey/events/acg-nj-angel-forum-march-12-2025
DTSTAMP:20260422T100031Z
END:VEVENT
END:VCALENDAR
