BEGIN:VCALENDAR
VERSION:2.0
PRODID:-//ACG//Events//EN
CALSCALE:GREGORIAN
METHOD:PUBLISH
BEGIN:VTIMEZONE
TZID:America/New_York
BEGIN:STANDARD
DTSTART:19701025T060000
TZOFFSETTO:-0500
TZOFFSETFROM:-0400
RRULE:FREQ=YEARLY;BYMONTH=11;BYDAY=1SU
END:STANDARD
BEGIN:DAYLIGHT
DTSTART:19700426T070000
TZOFFSETTO:-0400
TZOFFSETFROM:-0500
RRULE:FREQ=YEARLY;BYMONTH=3;BYDAY=2SU
END:DAYLIGHT
END:VTIMEZONE
BEGIN:VEVENT
UID:2025-NFL-CELEBRATE-WITH-ACG-GROWFL
DTSTART;TZID=America/New_York:20250416T163004
DTEND;TZID=America/New_York:20250416T183011
STATUS:CONFIRMED
SUMMARY:2025 NFL Celebrate with ACG & GrowFL
DESCRIPTION:
LOCATION:The River Club - Downtown\n1 Independent Drive\nJacksonville\
 \, FL 32202
URL:https://www.acg.org/northflorida/events/2025-nfl-celebrate-acg-growfl
DTSTAMP:20260422T060837Z
END:VEVENT
END:VCALENDAR
