BEGIN:VCALENDAR
VERSION:2.0
PRODID:-//ACG//Events//EN
CALSCALE:GREGORIAN
METHOD:PUBLISH
BEGIN:VTIMEZONE
TZID:America/New_York
BEGIN:STANDARD
DTSTART:19701025T060000
TZOFFSETTO:-0500
TZOFFSETFROM:-0400
RRULE:FREQ=YEARLY;BYMONTH=11;BYDAY=1SU
END:STANDARD
BEGIN:DAYLIGHT
DTSTART:19700426T070000
TZOFFSETTO:-0400
TZOFFSETFROM:-0500
RRULE:FREQ=YEARLY;BYMONTH=3;BYDAY=2SU
END:DAYLIGHT
END:VTIMEZONE
BEGIN:VEVENT
UID:143434
DTSTART;TZID=America/New_York:20250903T080000
DTEND;TZID=America/New_York:20250904T120000
STATUS:CONFIRMED
SUMMARY:ACG Great Lakes Capital Connection 2025
DESCRIPTION:
LOCATION:Amway Grand Plaza\, Curio Collection by Hilton\n 187 Monroe A
 ve NW\nGrand Rapids\\, MI 49503
URL:https://www.acg.org/pittsburgh/events/acg-great-lakes-capital-conn
 ection-2025
DTSTAMP:20260425T181911Z
END:VEVENT
END:VCALENDAR
