BEGIN:VCALENDAR
VERSION:2.0
PRODID:-//ACG//Events//EN
CALSCALE:GREGORIAN
METHOD:PUBLISH
BEGIN:VTIMEZONE
TZID:America/Los_Angeles
BEGIN:STANDARD
DTSTART:19701025T090000
TZOFFSETTO:-0800
TZOFFSETFROM:-0700
RRULE:FREQ=YEARLY;BYMONTH=11;BYDAY=1SU
END:STANDARD
BEGIN:DAYLIGHT
DTSTART:19700426T100000
TZOFFSETTO:-0700
TZOFFSETFROM:-0800
RRULE:FREQ=YEARLY;BYMONTH=3;BYDAY=2SU
END:DAYLIGHT
END:VTIMEZONE
BEGIN:VEVENT
UID:Y20-SEATTLE-EMERGING-DIRECTORS-JOURNEY-TO-BOARD-READINESS
DTSTART;TZID=America/Los_Angeles:20250226T170023
DTEND;TZID=America/Los_Angeles:20250226T183039
STATUS:CONFIRMED
SUMMARY:Y20 Seattle: Emerging Directors\, Journey  to Board Readiness
DESCRIPTION:
LOCATION:Washington Athletic Club\, Top of the WAC\, 21st Floor\n1325 
 6th Avenue\nSeattle\\, WA 98101
URL:https://www.acg.org/seattle/events/y20-seattle-emerging-directors-
 journey-board-readiness
DTSTAMP:20260422T114406Z
END:VEVENT
END:VCALENDAR
