BEGIN:VCALENDAR
VERSION:2.0
PRODID:-//ACG//Events//EN
CALSCALE:GREGORIAN
METHOD:PUBLISH
BEGIN:VTIMEZONE
TZID:America/New_York
BEGIN:STANDARD
DTSTART:19701025T060000
TZOFFSETTO:-0500
TZOFFSETFROM:-0400
RRULE:FREQ=YEARLY;BYMONTH=11;BYDAY=1SU
END:STANDARD
BEGIN:DAYLIGHT
DTSTART:19700426T070000
TZOFFSETTO:-0400
TZOFFSETFROM:-0500
RRULE:FREQ=YEARLY;BYMONTH=3;BYDAY=2SU
END:DAYLIGHT
END:VTIMEZONE
BEGIN:VEVENT
UID:ACG-COLUMBUS-HEALTHCARE-BREAKFAST
DTSTART;TZID=America/New_York:20250529T073012
DTEND;TZID=America/New_York:20250529T093012
STATUS:CONFIRMED
SUMMARY:ACG Columbus Breakfast: Healthcare Private Equity & Venture Up
 date and Outlook
DESCRIPTION:
LOCATION:Hilton Downtown Columbus\n402 North High Street\nColumbus\\, 
 OH 43215
URL:https://www.acg.org/columbus/events/acg-columbus-breakfast-healthc
 are-private-equity-venture-update-and-outlook
DTSTAMP:20260421T220941Z
END:VEVENT
END:VCALENDAR
