BEGIN:VCALENDAR
VERSION:2.0
PRODID:-//ACG//Events//EN
CALSCALE:GREGORIAN
METHOD:PUBLISH
BEGIN:VTIMEZONE
TZID:America/New_York
BEGIN:STANDARD
DTSTART:19701025T060000
TZOFFSETTO:-0500
TZOFFSETFROM:-0400
RRULE:FREQ=YEARLY;BYMONTH=11;BYDAY=1SU
END:STANDARD
BEGIN:DAYLIGHT
DTSTART:19700426T070000
TZOFFSETTO:-0400
TZOFFSETFROM:-0500
RRULE:FREQ=YEARLY;BYMONTH=3;BYDAY=2SU
END:DAYLIGHT
END:VTIMEZONE
BEGIN:VEVENT
UID:2025-ACG-COLUMBUS-SUMMER-SOCIAL
DTSTART;TZID=America/New_York:20250814T163028
DTEND;TZID=America/New_York:20250814T190028
STATUS:CONFIRMED
SUMMARY:2025 ACG Columbus Summer Social
DESCRIPTION:
LOCATION:Scioto Country Club\n2196 Riverside Drive\nColumbus\\, OH 43221
URL:https://www.acg.org/columbus/events/2025-acg-columbus-summer-social
DTSTAMP:20260423T083653Z
END:VEVENT
END:VCALENDAR
