BEGIN:VCALENDAR
VERSION:2.0
PRODID:-//ACG//Events//EN
CALSCALE:GREGORIAN
METHOD:PUBLISH
BEGIN:VTIMEZONE
TZID:America/Vancouver
BEGIN:STANDARD
DTSTART:19701025T090000
TZOFFSETTO:-0800
TZOFFSETFROM:-0700
RRULE:FREQ=YEARLY;BYMONTH=11;BYDAY=1SU
END:STANDARD
BEGIN:DAYLIGHT
DTSTART:19700426T100000
TZOFFSETTO:-0700
TZOFFSETFROM:-0800
RRULE:FREQ=YEARLY;BYMONTH=3;BYDAY=2SU
END:DAYLIGHT
END:VTIMEZONE
BEGIN:VEVENT
UID:143490
DTSTART;TZID=America/Vancouver:20250320T163000
DTEND;TZID=America/Vancouver:20250320T193000
STATUS:CONFIRMED
SUMMARY:ACG and YACG Present: March Madness 2025
DESCRIPTION:
LOCATION:Butcher and Bullock Public House\n911 West Pender street\nVan
 couver\\, BC V6C 3B2
URL:https://www.acg.org/bc/events/acg-and-yacg-present-march-madness-2025
DTSTAMP:20260422T081021Z
END:VEVENT
END:VCALENDAR
