BEGIN:VCALENDAR
VERSION:2.0
PRODID:-//ACG//Events//EN
CALSCALE:GREGORIAN
METHOD:PUBLISH
BEGIN:VTIMEZONE
TZID:America/Los_Angeles
BEGIN:STANDARD
DTSTART:19701025T090000
TZOFFSETTO:-0800
TZOFFSETFROM:-0700
RRULE:FREQ=YEARLY;BYMONTH=11;BYDAY=1SU
END:STANDARD
BEGIN:DAYLIGHT
DTSTART:19700426T100000
TZOFFSETTO:-0700
TZOFFSETFROM:-0800
RRULE:FREQ=YEARLY;BYMONTH=3;BYDAY=2SU
END:DAYLIGHT
END:VTIMEZONE
BEGIN:VEVENT
UID:ACGOC-2025-NEXTGEN-GOLF-PIZZA-03-12-2025
DTSTART;TZID=America/Los_Angeles:20250312T160005
DTEND;TZID=America/Los_Angeles:20250312T200008
STATUS:CONFIRMED
SUMMARY:ACGOC 2025 | NextGen Golf & Pizza | 03.12.2025
DESCRIPTION:
LOCATION:Newport Beach Golf Course\n3100 Irvine Avenue\nNewport Beach\
 \, CA 92660
URL:https://www.acg.org/occ/events/acgoc-2025-nextgen-golf-pizza-03122025
DTSTAMP:20260422T095935Z
END:VEVENT
END:VCALENDAR
