BEGIN:VCALENDAR
VERSION:2.0
PRODID:-//ACG//Events//EN
CALSCALE:GREGORIAN
METHOD:PUBLISH
BEGIN:VTIMEZONE
TZID:America/New_York
BEGIN:STANDARD
DTSTART:19701025T060000
TZOFFSETTO:-0500
TZOFFSETFROM:-0400
RRULE:FREQ=YEARLY;BYMONTH=11;BYDAY=1SU
END:STANDARD
BEGIN:DAYLIGHT
DTSTART:19700426T070000
TZOFFSETTO:-0400
TZOFFSETFROM:-0500
RRULE:FREQ=YEARLY;BYMONTH=3;BYDAY=2SU
END:DAYLIGHT
END:VTIMEZONE
BEGIN:VEVENT
UID:2025RIC-YOUNG-PROFESSIONALS-HAPPY-HOUR
DTSTART;TZID=America/New_York:20250424T173015
DTEND;TZID=America/New_York:20250424T193035
STATUS:CONFIRMED
SUMMARY:2025RIC: Young Professionals Happy Hour
DESCRIPTION:
LOCATION:Brambly Park Patio\n1708 Belleville Street\nRichmond\\, VA 23230
URL:https://www.acg.org/richmond/events/2025ric-young-professionals-ha
 ppy-hour
DTSTAMP:20260422T020444Z
END:VEVENT
END:VCALENDAR
