BEGIN:VCALENDAR
VERSION:2.0
PRODID:-//ACG//Events//EN
CALSCALE:GREGORIAN
METHOD:PUBLISH
BEGIN:VTIMEZONE
TZID:America/New_York
BEGIN:STANDARD
DTSTART:19701025T060000
TZOFFSETTO:-0500
TZOFFSETFROM:-0400
RRULE:FREQ=YEARLY;BYMONTH=11;BYDAY=1SU
END:STANDARD
BEGIN:DAYLIGHT
DTSTART:19700426T070000
TZOFFSETTO:-0400
TZOFFSETFROM:-0500
RRULE:FREQ=YEARLY;BYMONTH=3;BYDAY=2SU
END:DAYLIGHT
END:VTIMEZONE
BEGIN:VEVENT
UID:ACG-COLUMBUS-SEPTEMBER-LUNCHEON-M-A-UPDATE
DTSTART;TZID=America/New_York:20250930T073039
DTEND;TZID=America/New_York:20250930T090039
STATUS:CONFIRMED
SUMMARY:ACG Columbus September Breakfast: M&A Update
DESCRIPTION:
LOCATION:Marriott Columbus OSU\n3100 Olentangy River Road\nColumbus\\,
  OH 43202
URL:https://www.acg.org/columbus/events/acg-columbus-september-breakfa
 st-ma-update
DTSTAMP:20260421T024608Z
END:VEVENT
END:VCALENDAR
