BEGIN:VCALENDAR
VERSION:2.0
PRODID:-//ACG//Events//EN
CALSCALE:GREGORIAN
METHOD:PUBLISH
BEGIN:VTIMEZONE
TZID:America/New_York
BEGIN:STANDARD
DTSTART:19701025T060000
TZOFFSETTO:-0500
TZOFFSETFROM:-0400
RRULE:FREQ=YEARLY;BYMONTH=11;BYDAY=1SU
END:STANDARD
BEGIN:DAYLIGHT
DTSTART:19700426T070000
TZOFFSETTO:-0400
TZOFFSETFROM:-0500
RRULE:FREQ=YEARLY;BYMONTH=3;BYDAY=2SU
END:DAYLIGHT
END:VTIMEZONE
BEGIN:VEVENT
UID:RESOURCES-FOR-PROFESSIONAL-DEVELOPMENT-GOAL-SETTING-2025-NEXTGEN
DTSTART;TZID=America/New_York:20250306T173023
DTEND;TZID=America/New_York:20250306T193033
STATUS:CONFIRMED
SUMMARY:Resources for Professional Development & Goal Setting - 2025 N
 extGen
DESCRIPTION:
LOCATION:Riveron Consulting\, 20th Floor Conference Center\n1000 Wilso
 n Boulevard\nArlington\\, VA 22209
URL:https://www.acg.org/national-capital/events/resources-professional
 -development-goal-setting-2025-nextgen
DTSTAMP:20260422T100122Z
END:VEVENT
END:VCALENDAR
