BEGIN:VCALENDAR
VERSION:2.0
PRODID:-//ACG//Events//EN
CALSCALE:GREGORIAN
METHOD:PUBLISH
BEGIN:VTIMEZONE
TZID:America/Chicago
BEGIN:STANDARD
DTSTART:19701025T070000
TZOFFSETTO:-0600
TZOFFSETFROM:-0500
RRULE:FREQ=YEARLY;BYMONTH=11;BYDAY=1SU
END:STANDARD
BEGIN:DAYLIGHT
DTSTART:19700426T080000
TZOFFSETTO:-0500
TZOFFSETFROM:-0600
RRULE:FREQ=YEARLY;BYMONTH=3;BYDAY=2SU
END:DAYLIGHT
END:VTIMEZONE
BEGIN:VEVENT
UID:143559
DTSTART;TZID=America/Chicago:20250313T160000
DTEND;TZID=America/Chicago:20250313T180000
STATUS:CONFIRMED
SUMMARY:Young Professionals Game Show Social
DESCRIPTION:
URL:https://www.acg.org/minnesota/events/young-professionals-game-show
 -social
DTSTAMP:20260422T100032Z
END:VEVENT
END:VCALENDAR
