BEGIN:VCALENDAR
VERSION:2.0
PRODID:-//ACG//Events//EN
CALSCALE:GREGORIAN
METHOD:PUBLISH
BEGIN:VTIMEZONE
TZID:America/New_York
BEGIN:STANDARD
DTSTART:19701025T060000
TZOFFSETTO:-0500
TZOFFSETFROM:-0400
RRULE:FREQ=YEARLY;BYMONTH=11;BYDAY=1SU
END:STANDARD
BEGIN:DAYLIGHT
DTSTART:19700426T070000
TZOFFSETTO:-0400
TZOFFSETFROM:-0500
RRULE:FREQ=YEARLY;BYMONTH=3;BYDAY=2SU
END:DAYLIGHT
END:VTIMEZONE
BEGIN:VEVENT
UID:143592
DTSTART;TZID=America/New_York:20250327T133000
DTEND;TZID=America/New_York:20250327T143000
STATUS:CONFIRMED
SUMMARY:Protecting Your PortCos From Cyber Threats: The Importance of 
 Cyber Diligence in M&A
DESCRIPTION:
LOCATION:Zoom\n
URL:https://www.acg.org/events/protecting-your-portcos-cyber-threats-i
 mportance-cyber-diligence-ma
DTSTAMP:20260422T081258Z
END:VEVENT
END:VCALENDAR
