BEGIN:VCALENDAR
VERSION:2.0
PRODID:-//ACG//Events//EN
CALSCALE:GREGORIAN
METHOD:PUBLISH
BEGIN:VTIMEZONE
TZID:America/New_York
BEGIN:STANDARD
DTSTART:19701025T060000
TZOFFSETTO:-0500
TZOFFSETFROM:-0400
RRULE:FREQ=YEARLY;BYMONTH=11;BYDAY=1SU
END:STANDARD
BEGIN:DAYLIGHT
DTSTART:19700426T070000
TZOFFSETTO:-0400
TZOFFSETFROM:-0500
RRULE:FREQ=YEARLY;BYMONTH=3;BYDAY=2SU
END:DAYLIGHT
END:VTIMEZONE
BEGIN:VEVENT
UID:ACG-ATLANTA-BELOW-THE-CHOP-2025-BRAVES-VS-CARDINALS-APRIL-22
DTSTART;TZID=America/New_York:20250422T170032
DTEND;TZID=America/New_York:20250422T223048
STATUS:CONFIRMED
SUMMARY:ACG Atlanta Below the Chop 2025 - Braves vs Cardinals - April 22
DESCRIPTION:
URL:https://www.acg.org/atlanta/events/acg-atlanta-below-chop-2025-bra
 ves-vs-cardinals-april-22
DTSTAMP:20260422T040608Z
END:VEVENT
END:VCALENDAR
