BEGIN:VCALENDAR
VERSION:2.0
PRODID:-//ACG//Events//EN
CALSCALE:GREGORIAN
METHOD:PUBLISH
BEGIN:VTIMEZONE
TZID:America/New_York
BEGIN:STANDARD
DTSTART:19701025T060000
TZOFFSETTO:-0500
TZOFFSETFROM:-0400
RRULE:FREQ=YEARLY;BYMONTH=11;BYDAY=1SU
END:STANDARD
BEGIN:DAYLIGHT
DTSTART:19700426T070000
TZOFFSETTO:-0400
TZOFFSETFROM:-0500
RRULE:FREQ=YEARLY;BYMONTH=3;BYDAY=2SU
END:DAYLIGHT
END:VTIMEZONE
BEGIN:VEVENT
UID:MAR-2025-RALEIGH-DURHAM-SAVING-DEALS-MAKING-IT-WORK
DTSTART;TZID=America/New_York:20250313T113030
DTEND;TZID=America/New_York:20250313T130030
STATUS:CONFIRMED
SUMMARY:Mar 2025 Raleigh Durham | Saving Deals - Making it Work
DESCRIPTION:
LOCATION:NC State University Club\n4200 Hillsborough Street\nRaleigh\\
 , NC 27607
URL:https://www.acg.org/raleighdurham/events/mar-2025-raleigh-durham-s
 aving-deals-making-it-work
DTSTAMP:20260422T081129Z
END:VEVENT
END:VCALENDAR
