BEGIN:VCALENDAR
VERSION:2.0
PRODID:-//ACG//Events//EN
CALSCALE:GREGORIAN
METHOD:PUBLISH
BEGIN:VTIMEZONE
TZID:America/Chicago
BEGIN:STANDARD
DTSTART:19701025T070000
TZOFFSETTO:-0600
TZOFFSETFROM:-0500
RRULE:FREQ=YEARLY;BYMONTH=11;BYDAY=1SU
END:STANDARD
BEGIN:DAYLIGHT
DTSTART:19700426T080000
TZOFFSETTO:-0500
TZOFFSETFROM:-0600
RRULE:FREQ=YEARLY;BYMONTH=3;BYDAY=2SU
END:DAYLIGHT
END:VTIMEZONE
BEGIN:VEVENT
UID:2025-STL-EMERGING-20-SOCIAL-NETWORKING-EVENT-BY-INVITATION-ONLY
DTSTART;TZID=America/Chicago:20250327T170050
DTEND;TZID=America/Chicago:20250327T190007
STATUS:CONFIRMED
SUMMARY:2025 STL | Emerging 20\, Social & Networking Event (By Invitat
 ion Only)
DESCRIPTION:
LOCATION:The Flight Club\n7710 Forsyth Boulevard\nClayton\\, MO 63105
URL:https://www.acg.org/stlouis/events/2025-stl-emerging-20-social-net
 working-event-invitation-only
DTSTAMP:20260422T060917Z
END:VEVENT
END:VCALENDAR
