BEGIN:VCALENDAR
VERSION:2.0
PRODID:-//ACG//Events//EN
CALSCALE:GREGORIAN
METHOD:PUBLISH
BEGIN:VTIMEZONE
TZID:America/New_York
BEGIN:STANDARD
DTSTART:19701025T060000
TZOFFSETTO:-0500
TZOFFSETFROM:-0400
RRULE:FREQ=YEARLY;BYMONTH=11;BYDAY=1SU
END:STANDARD
BEGIN:DAYLIGHT
DTSTART:19700426T070000
TZOFFSETTO:-0400
TZOFFSETFROM:-0500
RRULE:FREQ=YEARLY;BYMONTH=3;BYDAY=2SU
END:DAYLIGHT
END:VTIMEZONE
BEGIN:VEVENT
UID:ACG-DEAL-STORY-REALMONE
DTSTART;TZID=America/New_York:20250424T073059
DTEND;TZID=America/New_York:20250424T093009
STATUS:CONFIRMED
SUMMARY:ACG Deal Story: RealmOne
DESCRIPTION:
LOCATION:VALO Park\n7950 Jones Branch Drive\nTysons\\, VA 22102
URL:https://www.acg.org/national-capital/events/acg-deal-story-realmone
DTSTAMP:20260422T020314Z
END:VEVENT
END:VCALENDAR
