BEGIN:VCALENDAR
VERSION:2.0
PRODID:-//ACG//Events//EN
CALSCALE:GREGORIAN
METHOD:PUBLISH
BEGIN:VTIMEZONE
TZID:America/New_York
BEGIN:STANDARD
DTSTART:19701025T060000
TZOFFSETTO:-0500
TZOFFSETFROM:-0400
RRULE:FREQ=YEARLY;BYMONTH=11;BYDAY=1SU
END:STANDARD
BEGIN:DAYLIGHT
DTSTART:19700426T070000
TZOFFSETTO:-0400
TZOFFSETFROM:-0500
RRULE:FREQ=YEARLY;BYMONTH=3;BYDAY=2SU
END:DAYLIGHT
END:VTIMEZONE
BEGIN:VEVENT
UID:143636
DTSTART;TZID=America/New_York:20250305T080000
DTEND;TZID=America/New_York:20250305T093000
STATUS:CONFIRMED
SUMMARY:Annual M&A Roundtable
DESCRIPTION:
LOCATION:Virginia War Memorial - Veteran's Hall\nVirginia War Memorial
 \n621 S. Belvidere Street\nRichmond\\, VA 23220
URL:https://www.acg.org/richmond/events/annual-ma-roundtable
DTSTAMP:20260422T095908Z
END:VEVENT
END:VCALENDAR
