BEGIN:VCALENDAR
VERSION:2.0
PRODID:-//ACG//Events//EN
CALSCALE:GREGORIAN
METHOD:PUBLISH
BEGIN:VTIMEZONE
TZID:Europe/Madrid
BEGIN:STANDARD
DTSTART:19700101T060000
TZOFFSETTO:+0100
TZOFFSETFROM:+0100
END:STANDARD
END:VTIMEZONE
BEGIN:VEVENT
UID:143700
DTSTART;TZID=Europe/Madrid:20250311T140000
DTEND;TZID=Europe/Madrid:20250311T160000
STATUS:CONFIRMED
SUMMARY:ALMUERZO CON MARTÍN NAVAZ
DESCRIPTION:
LOCATION:Via Veneto\n
URL:https://www.acg.org/spain/events/almuerzo-con-martin-navaz
DTSTAMP:20260422T095934Z
END:VEVENT
END:VCALENDAR
