BEGIN:VCALENDAR
VERSION:2.0
PRODID:-//ACG//Events//EN
CALSCALE:GREGORIAN
METHOD:PUBLISH
BEGIN:VTIMEZONE
TZID:America/New_York
BEGIN:STANDARD
DTSTART:19701025T060000
TZOFFSETTO:-0500
TZOFFSETFROM:-0400
RRULE:FREQ=YEARLY;BYMONTH=11;BYDAY=1SU
END:STANDARD
BEGIN:DAYLIGHT
DTSTART:19700426T070000
TZOFFSETTO:-0400
TZOFFSETFROM:-0500
RRULE:FREQ=YEARLY;BYMONTH=3;BYDAY=2SU
END:DAYLIGHT
END:VTIMEZONE
BEGIN:VEVENT
UID:2025-ACG-BOSTON-4TH-ANNUAL-GOLF-TOURNAMENT
DTSTART;TZID=America/New_York:20250929T093036
DTEND;TZID=America/New_York:20250929T180036
STATUS:CONFIRMED
SUMMARY:2025 ACG Boston: 4th Annual Golf Tournament
DESCRIPTION:
LOCATION:Wollaston Golf Club\n999 Randolph Avenue\nMilton\\, MA 02186
URL:https://www.acg.org/boston/events/2025-acg-boston-4th-annual-golf-
 tournament
DTSTAMP:20260421T044223Z
END:VEVENT
END:VCALENDAR
