BEGIN:VCALENDAR
VERSION:2.0
PRODID:-//ACG//Events//EN
CALSCALE:GREGORIAN
METHOD:PUBLISH
BEGIN:VTIMEZONE
TZID:America/New_York
BEGIN:STANDARD
DTSTART:19701025T060000
TZOFFSETTO:-0500
TZOFFSETFROM:-0400
RRULE:FREQ=YEARLY;BYMONTH=11;BYDAY=1SU
END:STANDARD
BEGIN:DAYLIGHT
DTSTART:19700426T070000
TZOFFSETTO:-0400
TZOFFSETFROM:-0500
RRULE:FREQ=YEARLY;BYMONTH=3;BYDAY=2SU
END:DAYLIGHT
END:VTIMEZONE
BEGIN:VEVENT
UID:MARCH-WIT-WINE-A-HAPPY-HOUR-TO-CONNECT-UNWIND
DTSTART;TZID=America/New_York:20250320T160033
DTEND;TZID=America/New_York:20250320T180033
STATUS:CONFIRMED
SUMMARY:March WiT & Wine: A Happy Hour to Connect & Unwind
DESCRIPTION:
LOCATION:Urban Meyer Pint House\n6632 Longshore Street\nDublin\\, OH 43017
URL:https://www.acg.org/columbus/events/march-wit-wine-happy-hour-conn
 ect-unwind
DTSTAMP:20260422T081205Z
END:VEVENT
END:VCALENDAR
