BEGIN:VCALENDAR
VERSION:2.0
PRODID:-//ACG//Events//EN
CALSCALE:GREGORIAN
METHOD:PUBLISH
BEGIN:VTIMEZONE
TZID:America/Edmonton
BEGIN:STANDARD
DTSTART:19700101T060000
TZOFFSETTO:-0700
TZOFFSETFROM:-0700
END:STANDARD
END:VTIMEZONE
BEGIN:VEVENT
UID:143732
DTSTART;TZID=America/Edmonton:20250305T163000
DTEND;TZID=America/Edmonton:20250305T183000
STATUS:CONFIRMED
SUMMARY:ACG Edmonton Q & A with Hubert and Josh Lau - Alberta Food Sec
 urity Inc.
DESCRIPTION:
LOCATION:Brighton Block\nBrighton Block\n9666 Jasper Ave\, 4th Floor\n
 Edmonton\\, AB T5H 3V5
URL:https://www.acg.org/edmonton/events/acg-edmonton-q-hubert-and-josh
 -lau-alberta-food-security-inc
DTSTAMP:20260422T101052Z
END:VEVENT
END:VCALENDAR
