BEGIN:VCALENDAR
VERSION:2.0
PRODID:-//ACG//Events//EN
CALSCALE:GREGORIAN
METHOD:PUBLISH
BEGIN:VTIMEZONE
TZID:America/Los_Angeles
BEGIN:STANDARD
DTSTART:19701025T090000
TZOFFSETTO:-0800
TZOFFSETFROM:-0700
RRULE:FREQ=YEARLY;BYMONTH=11;BYDAY=1SU
END:STANDARD
BEGIN:DAYLIGHT
DTSTART:19700426T100000
TZOFFSETTO:-0700
TZOFFSETFROM:-0800
RRULE:FREQ=YEARLY;BYMONTH=3;BYDAY=2SU
END:DAYLIGHT
END:VTIMEZONE
BEGIN:VEVENT
UID:ACGOC-INLAND-EMPIRE-NEXTGEN-HAPPY-HOUR-CRAFTING-CONNECTIONS-FOR-YO
 UNG-PROFESSIONALS-04-10-2025
DTSTART;TZID=America/Los_Angeles:20250410T163015
DTEND;TZID=America/Los_Angeles:20250410T183015
STATUS:CONFIRMED
SUMMARY:ACGOC | Inland Empire NextGen Happy Hour: Crafting Connections
  for Young Professionals! | 04.10.2025
DESCRIPTION:
LOCATION:Evolve Distilling\n1420 North Claremont Boulevard\nClaremont\
 \, CA 91711
URL:https://www.acg.org/occ/events/acgoc-inland-empire-nextgen-happy-h
 our-crafting-connections-young-professionals-04102025
DTSTAMP:20260422T040508Z
END:VEVENT
END:VCALENDAR
