BEGIN:VCALENDAR
VERSION:2.0
PRODID:-//ACG//Events//EN
CALSCALE:GREGORIAN
METHOD:PUBLISH
BEGIN:VTIMEZONE
TZID:America/New_York
BEGIN:STANDARD
DTSTART:19701025T060000
TZOFFSETTO:-0500
TZOFFSETFROM:-0400
RRULE:FREQ=YEARLY;BYMONTH=11;BYDAY=1SU
END:STANDARD
BEGIN:DAYLIGHT
DTSTART:19700426T070000
TZOFFSETTO:-0400
TZOFFSETFROM:-0500
RRULE:FREQ=YEARLY;BYMONTH=3;BYDAY=2SU
END:DAYLIGHT
END:VTIMEZONE
BEGIN:VEVENT
UID:032025-ACG-CHARLESTON-2025-WOMEN-S-EVENT
DTSTART;TZID=America/New_York:20250423T173024
DTEND;TZID=America/New_York:20250423T193024
STATUS:CONFIRMED
SUMMARY:The Power of Women in Deals & Leadership
DESCRIPTION:
LOCATION:The Harbour Club at WestEdge: 22 Westedge St Suite 700\, Char
 leston\, SC 29403\n22 Westedge Street\nCharleston\\, SC 29403
URL:https://www.acg.org/charleston/events/power-women-deals-leadership
DTSTAMP:20260422T060918Z
END:VEVENT
END:VCALENDAR
