BEGIN:VCALENDAR
VERSION:2.0
PRODID:-//ACG//Events//EN
CALSCALE:GREGORIAN
METHOD:PUBLISH
BEGIN:VTIMEZONE
TZID:America/New_York
BEGIN:STANDARD
DTSTART:19701025T060000
TZOFFSETTO:-0500
TZOFFSETFROM:-0400
RRULE:FREQ=YEARLY;BYMONTH=11;BYDAY=1SU
END:STANDARD
BEGIN:DAYLIGHT
DTSTART:19700426T070000
TZOFFSETTO:-0400
TZOFFSETFROM:-0500
RRULE:FREQ=YEARLY;BYMONTH=3;BYDAY=2SU
END:DAYLIGHT
END:VTIMEZONE
BEGIN:VEVENT
UID:SWING-DEALS-GOLF-NETWORKING
DTSTART;TZID=America/New_York:20250515T173037
DTEND;TZID=America/New_York:20250515T193037
STATUS:CONFIRMED
SUMMARY:Swing & Deals Golf Networking
DESCRIPTION:
LOCATION:Topgolf Charleston: 5000 Topgolf Wy\, N. Charleston\, SC 2941
 8\n5000 Topgolf Way\nNorth Charleston\\, SC 29418
URL:https://www.acg.org/charleston/events/swing-deals-golf-networking
DTSTAMP:20260421T221146Z
END:VEVENT
END:VCALENDAR
