BEGIN:VCALENDAR
VERSION:2.0
PRODID:-//ACG//Events//EN
CALSCALE:GREGORIAN
METHOD:PUBLISH
BEGIN:VTIMEZONE
TZID:America/New_York
BEGIN:STANDARD
DTSTART:19701025T060000
TZOFFSETTO:-0500
TZOFFSETFROM:-0400
RRULE:FREQ=YEARLY;BYMONTH=11;BYDAY=1SU
END:STANDARD
BEGIN:DAYLIGHT
DTSTART:19700426T070000
TZOFFSETTO:-0400
TZOFFSETFROM:-0500
RRULE:FREQ=YEARLY;BYMONTH=3;BYDAY=2SU
END:DAYLIGHT
END:VTIMEZONE
BEGIN:VEVENT
UID:PB250515
DTSTART;TZID=America/New_York:20250515T120033
DTEND;TZID=America/New_York:20250515T120040
STATUS:CONFIRMED
SUMMARY:Palm Beach Network Presents: Anatomy of a Deal
DESCRIPTION:
LOCATION:Morton's The Steakhouse\n777 South Flagler Drive\nWest Palm B
 each\\, FL 33401
URL:https://www.acg.org/southflorida/events/palm-beach-network-present
 s-anatomy-deal
DTSTAMP:20260421T233632Z
END:VEVENT
END:VCALENDAR
