BEGIN:VCALENDAR
VERSION:2.0
PRODID:-//ACG//Events//EN
CALSCALE:GREGORIAN
METHOD:PUBLISH
BEGIN:VTIMEZONE
TZID:America/New_York
BEGIN:STANDARD
DTSTART:19701025T060000
TZOFFSETTO:-0500
TZOFFSETFROM:-0400
RRULE:FREQ=YEARLY;BYMONTH=11;BYDAY=1SU
END:STANDARD
BEGIN:DAYLIGHT
DTSTART:19700426T070000
TZOFFSETTO:-0400
TZOFFSETFROM:-0500
RRULE:FREQ=YEARLY;BYMONTH=3;BYDAY=2SU
END:DAYLIGHT
END:VTIMEZONE
BEGIN:VEVENT
UID:ACG-NJ-17TH-ANNUAL-GOLF-PICKLEBALL-OUTING
DTSTART;TZID=America/New_York:20250805T110042
DTEND;TZID=America/New_York:20250805T200042
STATUS:CONFIRMED
SUMMARY:ACG NJ 17th Annual Golf & Pickleball Outing
DESCRIPTION:
LOCATION:Fiddler's Elbow Country Club\n811 Rattlesnake Bridge Road\nBe
 dminster\\, NJ 08889
URL:https://www.acg.org/newjersey/events/acg-nj-17th-annual-golf-pickl
 eball-outing
DTSTAMP:20260421T120456Z
END:VEVENT
END:VCALENDAR
