BEGIN:VCALENDAR
VERSION:2.0
PRODID:-//ACG//Events//EN
CALSCALE:GREGORIAN
METHOD:PUBLISH
BEGIN:VTIMEZONE
TZID:America/Los_Angeles
BEGIN:STANDARD
DTSTART:19701025T090000
TZOFFSETTO:-0800
TZOFFSETFROM:-0700
RRULE:FREQ=YEARLY;BYMONTH=11;BYDAY=1SU
END:STANDARD
BEGIN:DAYLIGHT
DTSTART:19700426T100000
TZOFFSETTO:-0700
TZOFFSETFROM:-0800
RRULE:FREQ=YEARLY;BYMONTH=3;BYDAY=2SU
END:DAYLIGHT
END:VTIMEZONE
BEGIN:VEVENT
UID:ACG-LOS-ANGELES-STATE-OF-PRIVATE-EQUITY-2025
DTSTART;TZID=America/Los_Angeles:20250429T170000
DTEND;TZID=America/Los_Angeles:20250429T200000
STATUS:CONFIRMED
SUMMARY:ACG Los Angeles | State of Private Equity\, 2025
DESCRIPTION:
LOCATION:Casa Del Mar\n1910 Ocean Way\nSanta Monica\\, CA 90405
URL:https://www.acg.org/los-angeles/events/acg-los-angeles-state-priva
 te-equity-2025
DTSTAMP:20260422T020223Z
END:VEVENT
END:VCALENDAR
