BEGIN:VCALENDAR
VERSION:2.0
PRODID:-//ACG//Events//EN
CALSCALE:GREGORIAN
METHOD:PUBLISH
BEGIN:VTIMEZONE
TZID:America/Los_Angeles
BEGIN:STANDARD
DTSTART:19701025T090000
TZOFFSETTO:-0800
TZOFFSETFROM:-0700
RRULE:FREQ=YEARLY;BYMONTH=11;BYDAY=1SU
END:STANDARD
BEGIN:DAYLIGHT
DTSTART:19700426T100000
TZOFFSETTO:-0700
TZOFFSETFROM:-0800
RRULE:FREQ=YEARLY;BYMONTH=3;BYDAY=2SU
END:DAYLIGHT
END:VTIMEZONE
BEGIN:VEVENT
UID:ACG-SEA-MAKERS-SPRING-CONNECTION-2025
DTSTART;TZID=America/Los_Angeles:20250327T160037
DTEND;TZID=America/Los_Angeles:20250327T190010
STATUS:CONFIRMED
SUMMARY:ACG SEA MAKERS Spring Connection 2025
DESCRIPTION:
LOCATION:Fast Penny Spirits Distillery\n1138 West Ewing Street\nSeattl
 e\\, WA 98119
URL:https://www.acg.org/seattle/events/acg-sea-makers-spring-connectio
 n-2025
DTSTAMP:20260422T062616Z
END:VEVENT
END:VCALENDAR
